BEGIN:VCALENDAR
PRODID:-//Microsoft Corporation//Outlook 11.0 MIMEDIR//EN
VERSION:2.0
METHOD:PUBLISH
BEGIN:VEVENT
DTSTART:20260423T120000
LOCATION:6430 Schwyz
TRANSP:OPAQUE
RRULE:FREQ=DAILY;INTERVAL=1
UID:1299a911-637a-4f40-aa54-b705030675cf-0
DTSTAMP:20260423T120000
DESCRIPTION:Über den Zaun schauen ist erlaubt! Egal wie exotisch und fremdartig die andere Seite ist, sie ist immer eine Erweiterung unseres Raumes und unserer Identität.\n\nDie Arbeit „Dazwischen“ zeigt einen 623cm langen Holzzaun der im Raum steht und von vier Holzpfählen getragen wird. Der Zaun grenzt ab und der Raum wird dadurch neu aufgeteilt. Er deutet auf die dadurch entstandenen Grenzen hin. Es entsteht ein „vor dem Zaun“ und ein „hinter dem Zaun“. Die Höhe des Zauns von 87cm macht ein „über den Zaun schauen“ möglich. Verknüpfungen zu den Themen Abgrenzung, Eingrenzung und Ausgrenzung werden hervorgerufen.\n\nDie eine Seite des Zauns mit ihren 45 vertikalen Holzlatten ist verkohlt und die andere Seite weiss lackiert. Die Gegensätzlichkeit und Unterschiedlichkeit dieser Oberflächen macht auf die Eigenart und das Individuelle des vis-à-vis aufmerksam. Die verkohlten Oberflächen der Zaunlatten sind eine Provokation auf die “heile schöne Welt” die durch die weiss lackierten Zaunlatten symbolisiert wird.\n\n„Dazwischen“ kann auch die Verbindung zweier Seiten sein. Das nachbarschaftliche Miteinander. Es gibt immer ein Dazwischen. Wir schauen über das Dazwischen auf das Gegenüber oder wir durchqueren das Dazwischen um auf die andere Seite zu gelangen. Das Dazwischen ist das Band der Beziehung oder es ist eine Grenze der Isolation.\n\n\nBarbara Gwerder\nMalerei / Objekte / Installationen / Kunst und Bau\n\nMein künstlerisches Schaffen – ist – sich Erinnern. Es ist eine persönliche Sache. Bei jedem Arbeiten ist es möglich, etwas zu finden. Das ist mein Antrieb. Nicht genau zu kennen spornt mich an weiter zu suchen, weiter zu finden. Für mich sind es kleine Verschiebungen die Antworten bringen.\n\n    • Kanton Schwyz, *1967\n    • Lebt und arbeitet im Kanton Luzern\n    • Studium an der Hochschule Design & Kunst Luzern, Bildende Kunst\n    • Teilstudium an der Hochschule der Künste, Berlin\n    • Prix FEMS im Bereich Malerei\n    • TV Film, SRF Sternstunde Kunst  "Über den Tannen " - Barbara Gwerder\n    • Atelierstipendium Berlin der Zentralschweizer Kantone\n    • Werkbeitrag, Bildende Kunst, Kunstkommission Schwyz\n    • Werkankauf, Kunstkommission Kanton Schwyz\n    • Kunstankauf, Kulturförderung Kanton Luzern\n\nhttps://barbaragwerder.ch/\n\nKontakt\nBarbara Gwerder\nDorf 14\n6028 Herlisberg\n\nPreis\nPreis auf Anfrage\n\n\nDas Angebot im Detail: https://www.guidle.com/angebote/741420812/dazwischen__uber_den_zaun_schauen_ist_erlaubt/schwyz\nQuelle: https://www.kulturwochenende.ch
SUMMARY:DAZWISCHEN – Über den Zaun schauen ist erlaubt
PRIORITY:5
X-MICROSOFT-CDO-IMPORTANCE:1
CLASS:PUBLIC
BEGIN:VALARM
TRIGGER:-P1D
ACTION:DISPLAY
DESCRIPTION:Reminder
END:VALARM
END:VEVENT
END:VCALENDAR