BEGIN:VCALENDAR
PRODID:-//Microsoft Corporation//Outlook 11.0 MIMEDIR//EN
VERSION:2.0
METHOD:PUBLISH
BEGIN:VEVENT
DTSTART:20260426T120000
LOCATION:Breitenstrasse 25, 6422 Steinen
TRANSP:OPAQUE
RRULE:FREQ=DAILY;INTERVAL=1
UID:1eafd6bf-9045-4ca3-80fe-b5538188b5d4-0
DTSTAMP:20260426T120000
DESCRIPTION:Schmuckanhänger in durchbrochener Technik mit Lederbändeli\nNuss, Birne, Olive \n\nhttps://chaskart.ch/holzkunst/\n\nKontakt\nchaskART\nFurniture, Möbel\nChaska Schuler\nWoodworkerin\nBreitenstrasse 25\n6422 Steinen\n041 811 60 82\n\nPreis\nCHF 55.-\n\n\nDas Angebot im Detail: https://www.guidle.com/angebote/741518014/diverse_schmuckanhanger_in_durchbrochener_technik_mit_lederbandeli/steinen\nQuelle: https://www.kulturwochenende.ch
SUMMARY:Diverse Schmuckanhänger in durchbrochener Technik mit Lederbändeli
PRIORITY:5
X-MICROSOFT-CDO-IMPORTANCE:1
CLASS:PUBLIC
BEGIN:VALARM
TRIGGER:-P1D
ACTION:DISPLAY
DESCRIPTION:Reminder
END:VALARM
END:VEVENT
END:VCALENDAR